BEGIN:VCALENDAR
VERSION:2.0
PRODID:-//Teatro El Milagro - ECPv5.16.1.1//NONSGML v1.0//EN
CALSCALE:GREGORIAN
METHOD:PUBLISH
X-WR-CALNAME:Teatro El Milagro
X-ORIGINAL-URL:https://elmilagro.org.mx/st
X-WR-CALDESC:Eventos para Teatro El Milagro
BEGIN:VTIMEZONE
TZID:America/Mexico_City
BEGIN:DAYLIGHT
TZOFFSETFROM:-0600
TZOFFSETTO:-0500
TZNAME:CDT
DTSTART:20210404T080000
END:DAYLIGHT
BEGIN:STANDARD
TZOFFSETFROM:-0500
TZOFFSETTO:-0600
TZNAME:CST
DTSTART:20211031T070000
END:STANDARD
END:VTIMEZONE
BEGIN:VEVENT
DTSTART;TZID=America/Mexico_City:20211026T200000
DTEND;TZID=America/Mexico_City:20211026T210000
DTSTAMP:20260422T182708
CREATED:20210909T223102Z
LAST-MODIFIED:20210909T223102Z
UID:3743-1635278400-1635282000@elmilagro.org.mx
SUMMARY:SENSATEZ Y CAUTELA 20 h
DESCRIPTION:
URL:https://elmilagro.org.mx/st/funcion/sensatez-y-cautela-20-h-8/
LOCATION:Teatro El Milagro\, Calle Milán 24 Entre Lucerna y Calle Gral. Prim\, Col. Juarez\, Alc. Cuauhtémoc\, Ciudad de México\, 06600\, Mexico
CATEGORIES:Funciónes
ATTACH;FMTTYPE=image/jpeg:https://elmilagro.org.mx/st/wp-content/uploads/2021/09/3a7a1012-9ecc-43b7-b806-e4c0ceec03b5.jpeg
END:VEVENT
END:VCALENDAR