BEGIN:VCALENDAR
VERSION:2.0
PRODID:-//Teatro El Milagro - ECPv5.16.1.1//NONSGML v1.0//EN
CALSCALE:GREGORIAN
METHOD:PUBLISH
X-WR-CALNAME:Teatro El Milagro
X-ORIGINAL-URL:https://elmilagro.org.mx/st
X-WR-CALDESC:Eventos para Teatro El Milagro
BEGIN:VTIMEZONE
TZID:America/Mexico_City
BEGIN:DAYLIGHT
TZOFFSETFROM:-0600
TZOFFSETTO:-0500
TZNAME:CDT
DTSTART:20230402T080000
END:DAYLIGHT
BEGIN:STANDARD
TZOFFSETFROM:-0500
TZOFFSETTO:-0600
TZNAME:CST
DTSTART:20231029T070000
END:STANDARD
END:VTIMEZONE
BEGIN:VEVENT
DTSTART;TZID=America/Mexico_City:20231214T200000
DTEND;TZID=America/Mexico_City:20231214T200000
DTSTAMP:20260421T110807
CREATED:20231121T162444Z
LAST-MODIFIED:20231121T162444Z
UID:5687-1702584000-1702584000@elmilagro.org.mx
SUMMARY:RESPIRAR Y CAER
DESCRIPTION:
URL:https://elmilagro.org.mx/st/funcion/respirar-y-caer-5/
END:VEVENT
END:VCALENDAR