BEGIN:VCALENDAR
VERSION:2.0
PRODID:-//Teatro El Milagro - ECPv5.16.1.1//NONSGML v1.0//EN
CALSCALE:GREGORIAN
METHOD:PUBLISH
X-WR-CALNAME:Teatro El Milagro
X-ORIGINAL-URL:https://elmilagro.org.mx/st
X-WR-CALDESC:Eventos para Teatro El Milagro
BEGIN:VTIMEZONE
TZID:America/Mexico_City
BEGIN:DAYLIGHT
TZOFFSETFROM:-0600
TZOFFSETTO:-0500
TZNAME:CDT
DTSTART:20230402T080000
END:DAYLIGHT
BEGIN:STANDARD
TZOFFSETFROM:-0500
TZOFFSETTO:-0600
TZNAME:CST
DTSTART:20231029T070000
END:STANDARD
END:VTIMEZONE
BEGIN:VEVENT
DTSTART;TZID=America/Mexico_City:20230925T200000
DTEND;TZID=America/Mexico_City:20230925T200000
DTSTAMP:20260421T202600
CREATED:20230912T180519Z
LAST-MODIFIED:20230912T180519Z
UID:5486-1695672000-1695672000@elmilagro.org.mx
SUMMARY:MALESTAR DEL TEATRO-MESA 3
DESCRIPTION:
URL:https://elmilagro.org.mx/st/funcion/malestar-del-teatro-mesa-3/
END:VEVENT
END:VCALENDAR