BEGIN:VCALENDAR
VERSION:2.0
PRODID:-//Teatro El Milagro - ECPv5.16.1.1//NONSGML v1.0//EN
CALSCALE:GREGORIAN
METHOD:PUBLISH
X-WR-CALNAME:Teatro El Milagro
X-ORIGINAL-URL:https://elmilagro.org.mx/st
X-WR-CALDESC:Eventos para Teatro El Milagro
BEGIN:VTIMEZONE
TZID:America/Mexico_City
BEGIN:DAYLIGHT
TZOFFSETFROM:-0600
TZOFFSETTO:-0500
TZNAME:CDT
DTSTART:20210404T080000
END:DAYLIGHT
BEGIN:STANDARD
TZOFFSETFROM:-0500
TZOFFSETTO:-0600
TZNAME:CST
DTSTART:20211031T070000
END:STANDARD
END:VTIMEZONE
BEGIN:VEVENT
DTSTART;TZID=America/Mexico_City:20210801T180000
DTEND;TZID=America/Mexico_City:20210801T193000
DTSTAMP:20260424T032611
CREATED:20210719T163449Z
LAST-MODIFIED:20210719T163552Z
UID:3612-1627840800-1627846200@elmilagro.org.mx
SUMMARY:LOS HABLADORES 2021 Programa 4 18 h
DESCRIPTION:
URL:https://elmilagro.org.mx/st/funcion/los-habladores-2021-programa-4-18-h/
LOCATION:Teatro El Milagro\, Calle Milán 24 Entre Lucerna y Calle Gral. Prim\, Col. Juarez\, Alc. Cuauhtémoc\, Ciudad de México\, 06600\, Mexico
CATEGORIES:Funciónes
ATTACH;FMTTYPE=image/jpeg:https://elmilagro.org.mx/st/wp-content/uploads/2021/05/4976cba5-7096-4341-b705-812992f84f0b.jpeg
END:VEVENT
END:VCALENDAR