BEGIN:VCALENDAR
VERSION:2.0
PRODID:-//Teatro El Milagro - ECPv5.16.1.1//NONSGML v1.0//EN
CALSCALE:GREGORIAN
METHOD:PUBLISH
X-WR-CALNAME:Teatro El Milagro
X-ORIGINAL-URL:https://elmilagro.org.mx/st
X-WR-CALDESC:Eventos para Teatro El Milagro
BEGIN:VTIMEZONE
TZID:America/Mexico_City
BEGIN:DAYLIGHT
TZOFFSETFROM:-0600
TZOFFSETTO:-0500
TZNAME:CDT
DTSTART:20260405T080000
END:DAYLIGHT
BEGIN:STANDARD
TZOFFSETFROM:-0500
TZOFFSETTO:-0600
TZNAME:CST
DTSTART:20261025T070000
END:STANDARD
END:VTIMEZONE
BEGIN:VEVENT
DTSTART;TZID=America/Mexico_City:20260126T200000
DTEND;TZID=America/Mexico_City:20260126T205000
DTSTAMP:20260419T201856
CREATED:20251230T055449Z
LAST-MODIFIED:20251230T055449Z
UID:8045-1769457600-1769460600@elmilagro.org.mx
SUMMARY:Las reglas del llanto
DESCRIPTION:Nombre de la obra:\nLas reglas del llanto\n\n\nDramaturgia (Idea original):\nPenélope Alfeirán\n\n\nDirección:\nRicardo Rodríguez\n\n\nElenco:\nConstanza Ballesteros\, Laura Baneco\, Julia Palomeque y Yayo Villegas\n\n\nProducción:\nLaura Baneco / Ekléctica Talleres\n\n\nGénero:\ncomedia\n\n\nTemporada:\n19 de enero al 10 de febrero\n\n\nHorarios:\nlunes y martes a las 20 hrs\n\n\nTeatro:\nEl Milagro\n\n\nCosto de boleto:\n$300 (entrada general) \n$150 (maestros y vecinos de la alcaldía Cuauhtémoc) \n$100 (estudiantes en general e INAPAM)\n\n\nClasificación:\nB (adolescentes a partir de 13 años y adultos)\n\n\nDuración:\n60 minutos\n\n\nBreve sinopsis:\nLas reglas del llanto son simples: los papás no lloran con sus hijas y las hermanas mayores no lloran con sus hermanitas. Si tienes ganas de llorar\, vas con la persona mayor a cargo\, una simple jerarquía. ¿Pero qué pasa si hay muerte\, viajes y malentendidos? Todo el mismo día y en una sola familia. En medio de un caos\, un papá\, una hermana mayor y una hermanita harán todo lo posible para no romper las reglas del llanto… Que lo consigan\, es otra cosa.
URL:https://elmilagro.org.mx/st/funcion/las-reglas-del-llanto-3/
CATEGORIES:Funciónes
ATTACH;FMTTYPE=image/jpeg:https://elmilagro.org.mx/st/wp-content/uploads/2025/12/vinil-las-reglas-del-llanto-40-x-35-cm-1-scaled.jpg
END:VEVENT
END:VCALENDAR