BEGIN:VCALENDAR
VERSION:2.0
PRODID:-//Teatro El Milagro - ECPv5.16.1.1//NONSGML v1.0//EN
CALSCALE:GREGORIAN
METHOD:PUBLISH
X-WR-CALNAME:Teatro El Milagro
X-ORIGINAL-URL:https://elmilagro.org.mx/st
X-WR-CALDESC:Eventos para Teatro El Milagro
BEGIN:VTIMEZONE
TZID:America/Mexico_City
BEGIN:DAYLIGHT
TZOFFSETFROM:-0600
TZOFFSETTO:-0500
TZNAME:CDT
DTSTART:20220403T080000
END:DAYLIGHT
BEGIN:STANDARD
TZOFFSETFROM:-0500
TZOFFSETTO:-0600
TZNAME:CST
DTSTART:20221030T070000
END:STANDARD
END:VTIMEZONE
BEGIN:VEVENT
DTSTART;TZID=America/Mexico_City:20220923T200000
DTEND;TZID=America/Mexico_City:20220923T213000
DTSTAMP:20260420T181750
CREATED:20220920T213434Z
LAST-MODIFIED:20220920T213455Z
UID:4376-1663963200-1663968600@elmilagro.org.mx
SUMMARY:LA ENFERMEDAD DE LA MUERTE 20 h
DESCRIPTION:
URL:https://elmilagro.org.mx/st/funcion/la-enfermedad-de-la-muerte-20-h/
LOCATION:Teatro El Milagro\, Calle Milán 24 Entre Lucerna y Calle Gral. Prim\, Col. Juarez\, Alc. Cuauhtémoc\, Ciudad de México\, 06600\, Mexico
CATEGORIES:Funciónes
ATTACH;FMTTYPE=image/jpeg:https://elmilagro.org.mx/st/wp-content/uploads/2022/09/44037ec0-4db2-483f-807c-5ff72a00bdc0.jpeg
END:VEVENT
END:VCALENDAR