BEGIN:VCALENDAR
VERSION:2.0
PRODID:-//Teatro El Milagro - ECPv5.16.1.1//NONSGML v1.0//EN
CALSCALE:GREGORIAN
METHOD:PUBLISH
X-WR-CALNAME:Teatro El Milagro
X-ORIGINAL-URL:https://elmilagro.org.mx/st
X-WR-CALDESC:Eventos para Teatro El Milagro
BEGIN:VTIMEZONE
TZID:America/Mexico_City
BEGIN:DAYLIGHT
TZOFFSETFROM:-0600
TZOFFSETTO:-0500
TZNAME:CDT
DTSTART:20230402T080000
END:DAYLIGHT
BEGIN:STANDARD
TZOFFSETFROM:-0500
TZOFFSETTO:-0600
TZNAME:CST
DTSTART:20231029T070000
END:STANDARD
END:VTIMEZONE
BEGIN:VEVENT
DTSTART;TZID=America/Mexico_City:20230923T130000
DTEND;TZID=America/Mexico_City:20230923T170000
DTSTAMP:20260422T033910
CREATED:20230912T175620Z
LAST-MODIFIED:20230912T175620Z
UID:5468-1695474000-1695488400@elmilagro.org.mx
SUMMARY:LA CURIOSA BÚSQUEDA DE MARCEL DE PETRASSANT
DESCRIPTION:
URL:https://elmilagro.org.mx/st/funcion/la-curiosa-busqueda-de-marcel-de-petrassant-5/
END:VEVENT
END:VCALENDAR