BEGIN:VCALENDAR
VERSION:2.0
PRODID:-//Teatro El Milagro - ECPv5.16.1.1//NONSGML v1.0//EN
CALSCALE:GREGORIAN
METHOD:PUBLISH
X-WR-CALNAME:Teatro El Milagro
X-ORIGINAL-URL:https://elmilagro.org.mx/st
X-WR-CALDESC:Eventos para Teatro El Milagro
BEGIN:VTIMEZONE
TZID:America/Mexico_City
BEGIN:DAYLIGHT
TZOFFSETFROM:-0600
TZOFFSETTO:-0500
TZNAME:CDT
DTSTART:20210404T080000
END:DAYLIGHT
BEGIN:STANDARD
TZOFFSETFROM:-0500
TZOFFSETTO:-0600
TZNAME:CST
DTSTART:20211031T070000
END:STANDARD
END:VTIMEZONE
BEGIN:VEVENT
DTSTART;TZID=America/Mexico_City:20210821T190000
DTEND;TZID=America/Mexico_City:20210821T203000
DTSTAMP:20260423T160654
CREATED:20210803T030321Z
LAST-MODIFIED:20210809T135051Z
UID:3665-1629572400-1629577800@elmilagro.org.mx
SUMMARY:1521: LA CAÍDA  Parte II 19 h
DESCRIPTION:
URL:https://elmilagro.org.mx/st/funcion/1521-la-caida-parte-ii-19-h/
LOCATION:Teatro El Milagro\, Calle Milán 24 Entre Lucerna y Calle Gral. Prim\, Col. Juarez\, Alc. Cuauhtémoc\, Ciudad de México\, 06600\, Mexico
CATEGORIES:Funciónes
ATTACH;FMTTYPE=image/jpeg:https://elmilagro.org.mx/st/wp-content/uploads/2021/07/f3f8eabc-f359-4a75-a75e-0a2bd439f935.jpeg
END:VEVENT
END:VCALENDAR