BEGIN:VCALENDAR
VERSION:2.0
PRODID:-//Teatro El Milagro - ECPv5.16.1.1//NONSGML v1.0//EN
CALSCALE:GREGORIAN
METHOD:PUBLISH
X-WR-CALNAME:Teatro El Milagro
X-ORIGINAL-URL:https://elmilagro.org.mx/st
X-WR-CALDESC:Eventos para Teatro El Milagro
BEGIN:VTIMEZONE
TZID:America/Mexico_City
BEGIN:DAYLIGHT
TZOFFSETFROM:-0600
TZOFFSETTO:-0500
TZNAME:CDT
DTSTART:20210404T080000
END:DAYLIGHT
BEGIN:STANDARD
TZOFFSETFROM:-0500
TZOFFSETTO:-0600
TZNAME:CST
DTSTART:20211031T070000
END:STANDARD
END:VTIMEZONE
BEGIN:VEVENT
DTSTART;TZID=America/Mexico_City:20210814T190000
DTEND;TZID=America/Mexico_City:20210814T203000
DTSTAMP:20260423T223622
CREATED:20210802T175029Z
LAST-MODIFIED:20210809T135327Z
UID:3657-1628967600-1628973000@elmilagro.org.mx
SUMMARY:1521: LA CAÍDA  Parte I 19 h
DESCRIPTION:
URL:https://elmilagro.org.mx/st/funcion/1521-la-caida-parte-i-19-h/
LOCATION:Teatro El Milagro\, Calle Milán 24 Entre Lucerna y Calle Gral. Prim\, Col. Juarez\, Alc. Cuauhtémoc\, Ciudad de México\, 06600\, Mexico
CATEGORIES:Funciónes
ATTACH;FMTTYPE=image/jpeg:https://elmilagro.org.mx/st/wp-content/uploads/2021/07/e521106f-e75e-4cc7-8d9a-d6c8908454ae.jpeg
END:VEVENT
END:VCALENDAR